BEGIN:VCALENDAR
VERSION:2.0
PRODID:-//NA Cultural Encampment - ECPv6.15.20//NONSGML v1.0//EN
CALSCALE:GREGORIAN
METHOD:PUBLISH
X-WR-CALNAME:NA Cultural Encampment
X-ORIGINAL-URL:https://naculturalencampment.org
X-WR-CALDESC:Events for NA Cultural Encampment
REFRESH-INTERVAL;VALUE=DURATION:PT1H
X-Robots-Tag:noindex
X-PUBLISHED-TTL:PT1H
BEGIN:VTIMEZONE
TZID:America/Los_Angeles
BEGIN:DAYLIGHT
TZOFFSETFROM:-0800
TZOFFSETTO:-0700
TZNAME:PDT
DTSTART:20240310T100000
END:DAYLIGHT
BEGIN:STANDARD
TZOFFSETFROM:-0700
TZOFFSETTO:-0800
TZNAME:PST
DTSTART:20241103T090000
END:STANDARD
BEGIN:DAYLIGHT
TZOFFSETFROM:-0800
TZOFFSETTO:-0700
TZNAME:PDT
DTSTART:20250309T100000
END:DAYLIGHT
BEGIN:STANDARD
TZOFFSETFROM:-0700
TZOFFSETTO:-0800
TZNAME:PST
DTSTART:20251102T090000
END:STANDARD
BEGIN:DAYLIGHT
TZOFFSETFROM:-0800
TZOFFSETTO:-0700
TZNAME:PDT
DTSTART:20260308T100000
END:DAYLIGHT
BEGIN:STANDARD
TZOFFSETFROM:-0700
TZOFFSETTO:-0800
TZNAME:PST
DTSTART:20261101T090000
END:STANDARD
END:VTIMEZONE
BEGIN:VEVENT
DTSTART;TZID=America/Los_Angeles:20250430T163000
DTEND;TZID=America/Los_Angeles:20250430T173000
DTSTAMP:20260421T085533
CREATED:20250323T212712Z
LAST-MODIFIED:20250323T212959Z
UID:418-1746030600-1746034200@naculturalencampment.org
SUMMARY:Native Cultural Presentation at Eugene Library
DESCRIPTION:Join us for a free cultural presentation at the Eugene Public Library\nDeitrich Peters (Grand Ronde) will share about his regalia\, play flute\, tell stories and take questions. Karen Rainsong from Singing Creek Educational Center will be bringing out some items from Kalapuya material culture to share and will be introducing Deitz. \nThis event is best for ages 8 and up. FREE. \nLocation: Eugene LibraryDate: Wednesday April 30th\, 2025Time: 4:30pm – 5:30pm \nDeitrich Peters Bio\n“I was born in Dallas\, Oregon and I’m a member of the Confederated Tribes of Grand Ronde. I am Kalapuya\, Rouge River\, and Umpqua. My given name is Cosa Tance\, meaning “Sky Dancer”. My English name is Deitrich David Peters. I was given both my grandfather’s middle names. I grew up in Oregon and love to travel to as many cultural events as I can.\n\nI love my culture and traditions – making things with my hands\, working with feathers\, beadwork\, traditional dancing\, storytelling and of course my all time favorite\, flute playing. I have learned these many things from our elders\, and have been gifted these things by the Creator.”
URL:https://naculturalencampment.org/event/native-cultural-presentation-at-eugene-library/
LOCATION:Eugene Public Library\, 100 W 10th Ave.\, Eugene\, OR\, 97401
CATEGORIES:Community Events
END:VEVENT
END:VCALENDAR